BEGIN:VCALENDAR
VERSION:2.0
PRODID:-//ACORBAT Internacional - ECPv6.15.15//NONSGML v1.0//EN
CALSCALE:GREGORIAN
METHOD:PUBLISH
X-WR-CALNAME:ACORBAT Internacional
X-ORIGINAL-URL:https://acorbatinternacional.com
X-WR-CALDESC:Eventos para ACORBAT Internacional
REFRESH-INTERVAL;VALUE=DURATION:PT1H
X-Robots-Tag:noindex
X-PUBLISHED-TTL:PT1H
BEGIN:VTIMEZONE
TZID:UTC
BEGIN:STANDARD
TZOFFSETFROM:+0000
TZOFFSETTO:+0000
TZNAME:UTC
DTSTART:20250101T000000
END:STANDARD
END:VTIMEZONE
BEGIN:VEVENT
DTSTART;VALUE=DATE:20261015
DTEND;VALUE=DATE:20261016
DTSTAMP:20260421T082029
CREATED:20251212T191529Z
LAST-MODIFIED:20251212T191529Z
UID:25591-1792022400-1792108799@acorbatinternacional.com
SUMMARY:Día Internacional de las Mujeres Rurales
DESCRIPTION:
URL:https://acorbatinternacional.com/calendario/dia-internacional-de-las-mujeres-rurales/
END:VEVENT
END:VCALENDAR